BEGIN:VCALENDAR
VERSION:2.0
PRODID:-//hacksw/handcal//NONSGML v1.0//EN
BEGIN:VEVENT
DTSTAMP:20261031T230000Z
DTSTART:20261031T230000Z
DTEND:20261031T230000Z
LOCATION:Am Metternicher Weg, Swisttal-Heimerzheim, Deutschland
SUMMARY:Heimerzheimer Rettungswache
END:VEVENT
END:VCALENDAR
