BEGIN:VCALENDAR
VERSION:2.0
PRODID:-//hacksw/handcal//NONSGML v1.0//EN
BEGIN:VEVENT
DTSTAMP:20260918T220000Z
DTSTART:20260918T220000Z
DTEND:20260918T220000Z
LOCATION:Gut Capellen, Capellenstrasse , Swisttal-Dünstekoven, Deutschland
SUMMARY:Gut Capellen
END:VEVENT
END:VCALENDAR
