BEGIN:VCALENDAR
VERSION:2.0
PRODID:-//hacksw/handcal//NONSGML v1.0//EN
BEGIN:VEVENT
DTSTAMP:20260410T221000Z
DTSTART:20260410T221000Z
DTEND:20260410T221000Z
LOCATION:Nabu Dünstekoven, Deutschland
SUMMARY:Natur erleben..mit Peter Meyer
END:VEVENT
END:VCALENDAR
