BEGIN:VCALENDAR
VERSION:2.0
PRODID:-//hacksw/handcal//NONSGML v1.0//EN
BEGIN:VEVENT
DTSTAMP:20250614T140000Z
DTSTART:20250614T140000Z
DTEND:20250614T160000Z
LOCATION:Brunnenplatz Morenhoven, Brunnenweg, Swisttal- Morenhoven, 53913, Deutschland
SUMMARY:Grillfest in Morenhoven
END:VEVENT
END:VCALENDAR
