BEGIN:VCALENDAR
VERSION:2.0
PRODID:-//hacksw/handcal//NONSGML v1.0//EN
BEGIN:VEVENT
DTSTAMP:20200625T120000Z
DTSTART:20200625T120000Z
DTEND:20200625T120000Z
LOCATION:Kloster Steinfeld, Hermann-Josef-Str. 4, Kall-Steinfeld, 53925, Deutschland
SUMMARY:Besuch im Kloster Steinfeld (SU) (b.a.w. abgesagt)
END:VEVENT
END:VCALENDAR
