BEGIN:VCALENDAR
VERSION:2.0
PRODID:-//hacksw/handcal//NONSGML v1.0//EN
BEGIN:VEVENT
DTSTAMP:20190920T170000Z
DTSTART:20190920T170000Z
DTEND:20190920T170000Z
LOCATION:Kath. Pfarrheim St. Katharina Buschhoven, Toniusplatz 5, Swisttal-Buschhoven, 53913, Deutschland
SUMMARY:Weinfest des CDU-Ortsverbandes Buschhoven
END:VEVENT
END:VCALENDAR
