BEGIN:VCALENDAR
VERSION:2.0
PRODID:-//hacksw/handcal//NONSGML v1.0//EN
BEGIN:VEVENT
DTSTAMP:20181212T180000Z
DTSTART:20181212T180000Z
DTEND:20181212T180000Z
LOCATION:Dorfhaus Straßfeld, Antoniusstraße 115, 53913 Swisttal-Straßfeld, Deutschland
SUMMARY:Mitgliederversammlung des CDU-Gemeindeverbandes Swisttal
END:VEVENT
END:VCALENDAR
